BEGIN:VCALENDAR
VERSION:2.0
PRODID:-//ChamberMaster//Event Calendar 2.0//EN
METHOD:PUBLISH
X-PUBLISHED-TTL:P3D
REFRESH-INTERVAL:P3D
CALSCALE:GREGORIAN
BEGIN:VEVENT
DTSTART:20251024T003000Z
DTEND:20251026T210000Z
X-MICROSOFT-CDO-ALLDAYEVENT:FALSE
SUMMARY:The Haunting of Hill House
DESCRIPTION:This chilling mystery follows a small group of psychically-receptive people who are brought together in Hill House\, a brooding mansion known as a place of evil. Led by a learned professor\, the visitors have come to probe the secrets of the old house\, but they soon find that Hill House has terrible plans of its own!\n\n\n\nAdapted by F. Andrew Leslie\n\nFrom the novel by Shirley Jackson
X-ALT-DESC;FMTTYPE=text/html:This chilling mystery follows a small group of&nbsp\;psychically-receptive people who are brought together in Hill House\, a brooding mansion known as a place of evil. Led by a learned professor\, the visitors have come to probe the secrets of the old house\, but they soon find that Hill House has terrible plans of its own!<br />\n<br />\nAdapted by F. Andrew Leslie<br />\nFrom the novel by Shirley Jackson
LOCATION:Martial-Caron Theatre\, Saint Boniface University Free parking!
UID:e.2532.714
SEQUENCE:3
DTSTAMP:20260420T102246Z
URL:https://portal.assiniboiachamber.ca/events/details/the-haunting-of-hill-house-714
END:VEVENT

END:VCALENDAR
