BEGIN:VCALENDAR
VERSION:2.0
PRODID:-//ChamberMaster//Event Calendar 2.0//EN
METHOD:PUBLISH
X-PUBLISHED-TTL:P3D
REFRESH-INTERVAL:P3D
CALSCALE:GREGORIAN
BEGIN:VEVENT
DTSTART:20260227T013000Z
DTEND:20260301T220000Z
X-MICROSOFT-CDO-ALLDAYEVENT:FALSE
SUMMARY:The 39 Steps
DESCRIPTION:A sultry spy is murdered and a Canadian with a boring life finds himself pursued by a mysterious organization called "The 39 Steps". Mix a Hitchcock masterpiece with a juicy spy novel\, add in nonstop laughs\, and you have a fast-paced whodunit for anyone who loves the magic of theatre! This two-time Tony Award-winning treat is packed with over 150 zany characters\, an onstage plane crash\, handcuffs\, missing fingers\, and some good old-fashioned romance!\n\n\n\nAdapted by Patrick Barlow\n\nFrom the novel by John Buchan\n\nFrom the movie by Alfred Hitchcock\n\n\n\nLicensed by ITV Global Entertainment Limited\n\nWith an original concept by Simon Corble and Nobby Dimon
X-ALT-DESC;FMTTYPE=text/html:A sultry spy is murdered and a Canadian with a boring life finds himself pursued by a mysterious organization called &ldquo\;The 39 Steps&rdquo\;. Mix a Hitchcock masterpiece with a juicy spy novel\, add in nonstop laughs\, and you have a fast-paced whodunit for anyone who loves the magic of theatre! This two-time Tony Award-winning treat is packed with over 150 zany characters\, an onstage plane crash\, handcuffs\, missing fingers\, and some good old-fashioned romance!<br />\n<br />\nAdapted by Patrick Barlow<br />\nFrom the novel by John Buchan<br />\nFrom the movie by Alfred Hitchcock<br />\n<br />\nLicensed by ITV Global Entertainment Limited<br />\nWith an original concept by Simon Corble and Nobby Dimon
LOCATION:Gas Station Arts Centre
UID:e.2532.715
SEQUENCE:3
DTSTAMP:20260420T030443Z
URL:https://portal.assiniboiachamber.ca/events/details/the-39-steps-715
END:VEVENT

END:VCALENDAR
