BEGIN:VCALENDAR
VERSION:2.0
PRODID:-//ChamberMaster//Event Calendar 2.0//EN
METHOD:PUBLISH
X-PUBLISHED-TTL:P3D
REFRESH-INTERVAL:P3D
CALSCALE:GREGORIAN
BEGIN:VEVENT
DTSTART:20260513T150000Z
DTEND:20260513T170000Z
X-MICROSOFT-CDO-ALLDAYEVENT:FALSE
SUMMARY:Skills for Emerging Leaders Certificate Program
DESCRIPTION:Eight-Week Program.\n\n\n\nWhether you are an aspiring\, new\, or experienced manager\, it's important to always look for ways to develop your leadership skills. This program teaches you how to create happier\, healthier\, more motivated teams where everyone feels supported. In just eight two-hour sessions\, you will learn the skills you need to effectively lead your team and your organization toward achieving its mission.\n\nLearn from Someone Who's Been Where You Are. \n\nOne of our experienced facilitators will teach you core leadership competencies and challenge you to expand on what you learn through group discussions and interactive activities.\n\nOnce you've completed the program\, you can also schedule up to three coaching sessions with the facilitator.* This is an opportunity to gain valuable insights on how to apply what you've learned to your workplace. The facilitator can also help you map out your career or figure out the next steps in your leadership development.\n\nCreate Meaningful Connections.\n\nThis program is also an opportunity to expand your network. You will have many opportunities to connect with other enthusiastic learners\, all committed to growing as leaders.\n\n\n\nVisit achievecentre.com to register.
X-ALT-DESC;FMTTYPE=text/html:<p><em>Eight-Week Program.</em><br />\n<br />\nWhether you are an aspiring\, new\, or experienced manager\, it&rsquo\;s important to always look for ways to develop your leadership skills. This program teaches you how to create happier\, healthier\, more motivated teams where everyone feels supported. In just eight two-hour sessions\, you will learn the skills you need to effectively lead your team and your organization toward achieving its mission.</p>\n\n<p><strong>Learn from Someone Who&rsquo\;s Been Where You Are.&nbsp\;</strong></p>\n\n<p>One of our experienced facilitators will teach you core leadership competencies and challenge you to expand on what you learn through group discussions and interactive activities.</p>\n\n<p>Once you&#39\;ve completed the program\, you can also schedule up to three coaching sessions with the facilitator.* This is an opportunity to gain valuable insights on how to apply what you&rsquo\;ve learned to your workplace. The facilitator can also help you map out your career or figure out the next steps in your leadership development.</p>\n\n<p><strong>Create Meaningful Connections.</strong></p>\n\n<p>This program is also an opportunity to expand your network. You will have many opportunities to connect with other enthusiastic learners\, all committed to growing as leaders.<br />\n<br />\n<a href="https://achievecentre.com/workshops/live-virtual-skills-for-emerging-leaders-certificate-program-05-06-2026/"><strong>Visit achievecentre.com to register.</strong></a></p>\n
LOCATION:Live Virtual (Join from anywhere)
UID:e.2532.1012
SEQUENCE:3
DTSTAMP:20260419T235743Z
URL:https://portal.assiniboiachamber.ca/events/details/skills-for-emerging-leaders-certificate-program-05-13-2026-1012
END:VEVENT

END:VCALENDAR
