BEGIN:VCALENDAR
VERSION:2.0
PRODID:-//ChamberMaster//Event Calendar 2.0//EN
METHOD:PUBLISH
X-PUBLISHED-TTL:P3D
REFRESH-INTERVAL:P3D
CALSCALE:GREGORIAN
BEGIN:VEVENT
DTSTART:20260521T150000Z
DTEND:20260521T190000Z
X-MICROSOFT-CDO-ALLDAYEVENT:FALSE
SUMMARY:SJA55+ Centre presents 55+ Community Expo
DESCRIPTION:Join the St. James Assiniboia 55+ Centre for a welcoming Spring Community Expo bringing together organizations\, businesses\, clubs\, and community partners that support healthy\, active\, and connected living for older adults. Enjoy a one-stop showcase of programs\, services\, and resources\, connect with community groups\, and grab a coffee\, snack\, or bowl of soup while you explore what's available in your community.
X-ALT-DESC;FMTTYPE=text/html:<p><span style="color:inherit\; font-family:inherit\; font-size:inherit">Join the St. James Assiniboia 55+ Centre for a welcoming Spring Community Expo bringing together organizations\, businesses\, clubs\, and community partners that support healthy\, active\, and connected living for older adults. Enjoy a one-stop showcase of programs\, services\, and resources\, connect with community groups\, and grab a coffee\, snack\, or bowl of soup while you explore what&rsquo\;s available in your community.</span></p>\n
LOCATION:Westwood Community Church
UID:e.2532.1020
SEQUENCE:3
DTSTAMP:20260419T235843Z
URL:https://portal.assiniboiachamber.ca/events/details/sja55-centre-presents-55-community-expo-1020
END:VEVENT

END:VCALENDAR
