BEGIN:VCALENDAR
VERSION:2.0
PRODID:-//ChamberMaster//Event Calendar 2.0//EN
METHOD:PUBLISH
X-PUBLISHED-TTL:P3D
REFRESH-INTERVAL:P3D
CALSCALE:GREGORIAN
BEGIN:VEVENT
DTSTART;VALUE=DATE:20260505
DTEND;VALUE=DATE:20260506
TRANSP:TRANSPARENT
X-MICROSOFT-CDO-ALLDAYEVENT:TRUE
SUMMARY:Rotary Club of Winnipeg West's 75th Annual Chicken Fest Fundraiser
DESCRIPTION:ChickenFest is in its 75th year! Proudly announcing Children's Rehabilitation Foundation's - Leisure in Fun Environments (LIFE) Summer Camp Program as the 2026 Signature Project.\n\n\n\nChickenFest is the Club's single largest fundraising event involving rotarians\, workplaces\, offices\, warehouses\, schools\, homes\, friends & neighbours. Over the years\, the Rotary Club of Winnipeg West has supported many local initiatives and the funds raised have gone directly back into programs throughout Winnipeg. \n\n\n\nTo help us continue our work\, please support ChickenFest and order now!
X-ALT-DESC;FMTTYPE=text/html:<p>ChickenFest is in its 75th year!&nbsp\;Proudly announcing Children&#39\;s Rehabilitation Foundation&#39\;s - Leisure in Fun Environments (LIFE) Summer Camp Program as the 2026 Signature Project.<br />\n<br />\nChickenFest is the Club&#39\;s single largest fundraising event involving rotarians\, workplaces\, offices\, warehouses\, schools\, homes\, friends &amp\; neighbours.&nbsp\;Over the years\, the Rotary Club of Winnipeg West has supported many local initiatives and the funds raised have gone directly back into programs throughout Winnipeg.&nbsp\;<br />\n<br />\nTo help us continue our work\, please support ChickenFest and order now!</p>\n
LOCATION:
UID:e.2532.1054
SEQUENCE:3
DTSTAMP:20260420T013800Z
URL:https://portal.assiniboiachamber.ca/events/details/rotary-club-of-west-winnipeg-s-75th-annual-chicken-fest-fundraiser-05-05-2026-1054
END:VEVENT

END:VCALENDAR
