BEGIN:VCALENDAR
VERSION:2.0
PRODID:-//ChamberMaster//Event Calendar 2.0//EN
METHOD:PUBLISH
X-PUBLISHED-TTL:P3D
REFRESH-INTERVAL:P3D
CALSCALE:GREGORIAN
BEGIN:VEVENT
DTSTART:20251022T223000Z
DTEND:20251023T020000Z
X-MICROSOFT-CDO-ALLDAYEVENT:FALSE
SUMMARY:Painting for Compassion
DESCRIPTION:Painting for Compassion: An Evening of Art\, Flavor & Heart\n\nJoin us for a cozy\, joy-filled night where creativity meets community. Every brushstroke helps Compassion for Everyone support Winnipeg family caregivers\, seniors\, and children who need in-home care but struggle to afford it. Come paint\, dine\, laugh\, and do something beautiful for yourself and for others.
X-ALT-DESC;FMTTYPE=text/html:<p>Painting for Compassion: An Evening of Art\, Flavor &amp\; Heart</p>\n\n<p>Join us for a cozy\, joy-filled night where creativity meets community.&nbsp\;Every brushstroke helps Compassion for Everyone support Winnipeg family caregivers\, seniors\, and children who need in-home care but struggle to afford it. Come paint\, dine\, laugh\, and do something beautiful for yourself and for others.</p>\n
LOCATION:Boujee Restaurant & Bar
UID:e.2532.975
SEQUENCE:3
DTSTAMP:20260420T085609Z
URL:https://portal.assiniboiachamber.ca/events/details/painting-for-compassion-975
END:VEVENT

END:VCALENDAR
