BEGIN:VCALENDAR
VERSION:2.0
PRODID:-//ChamberMaster//Event Calendar 2.0//EN
METHOD:PUBLISH
X-PUBLISHED-TTL:P3D
REFRESH-INTERVAL:P3D
CALSCALE:GREGORIAN
BEGIN:VEVENT
DTSTART;VALUE=DATE:20260213
DTEND;VALUE=DATE:20260216
TRANSP:TRANSPARENT
X-MICROSOFT-CDO-ALLDAYEVENT:TRUE
SUMMARY:One Great City Brewing Co. and Deer Lodge Curling Club Present Curling Fun-Spiel
DESCRIPTION:Join in on some curling fun from Friday\, February 13 to Sunday\, February 15. There will be prizes\, OGC specials and the winning team gets their name on a handle! \n\nGuaranteed 3 games and all ages are welcome!
X-ALT-DESC;FMTTYPE=text/html:<p>Join in on some curling&nbsp\;fun from Friday\, February 13 to Sunday\, February 15. There will be prizes\, OGC specials and the winning team gets their name on a handle!&nbsp\;</p>\n\n<p>Guaranteed 3 games and all ages are welcome!&nbsp\;</p>\n
LOCATION:Deer Lodge Curling Club
UID:e.2532.1018
SEQUENCE:3
DTSTAMP:20260420T031655Z
URL:https://portal.assiniboiachamber.ca/events/details/one-great-city-brewing-co-and-deer-lodge-curling-club-present-curling-fun-spiel-1018
END:VEVENT

END:VCALENDAR
