BEGIN:VCALENDAR
VERSION:2.0
PRODID:-//ChamberMaster//Event Calendar 2.0//EN
METHOD:PUBLISH
X-PUBLISHED-TTL:P3D
REFRESH-INTERVAL:P3D
CALSCALE:GREGORIAN
BEGIN:VEVENT
DTSTART:20260508T003000Z
DTEND:20260510T210000Z
X-MICROSOFT-CDO-ALLDAYEVENT:FALSE
SUMMARY:Miss Holmes
DESCRIPTION:Join Miss Sherlock Holmes and Dr. Dorothy Watson as they work together to uncover the secrets surrounding a corrupt police inspector whose wives have a habit of turning up dead! These unconventional women\, trapped in an era that refuses to accept them\, must forge a bond of trust and work together through the dangers of 19th century London in this entertaining and delightfully fast-moving murder mystery.\n\n\n\nBy Christopher M. Walsh\n\nBased on characters by Sir Arthur Conan Doyle
X-ALT-DESC;FMTTYPE=text/html:Join Miss Sherlock Holmes and Dr. Dorothy Watson as they work together to uncover the secrets surrounding a corrupt police inspector whose wives have a habit of turning up dead! These unconventional women\, trapped in an era that refuses to accept them\, must forge a bond of trust and work together through the dangers of 19th century London in this entertaining and delightfully fast-moving murder mystery.<br />\n<br />\nBy Christopher M. Walsh<br />\nBased on characters by Sir Arthur Conan Doyle
LOCATION:Gas Station Arts Centre
UID:e.2532.716
SEQUENCE:3
DTSTAMP:20260420T001945Z
URL:https://portal.assiniboiachamber.ca/events/details/miss-holmes-716
END:VEVENT

END:VCALENDAR
