BEGIN:VCALENDAR
VERSION:2.0
PRODID:-//ChamberMaster//Event Calendar 2.0//EN
METHOD:PUBLISH
X-PUBLISHED-TTL:P3D
REFRESH-INTERVAL:P3D
CALSCALE:GREGORIAN
BEGIN:VEVENT
DTSTART:20260213T190000Z
DTEND:20260213T220000Z
X-MICROSOFT-CDO-ALLDAYEVENT:FALSE
SUMMARY:Love Casino at Venvi The Wellington
DESCRIPTION:It's game time! Come see what all the fun is about. Try your luck and hone your skill as we host a community Poker game\, Wheel of Chance\, etc. \n\n\n\nStay for complimentary refreshments and discover the warmth and vitality of our senior living community.
X-ALT-DESC;FMTTYPE=text/html:It&#39\;s game time! Come see what all the fun is about. Try your luck and hone your skill as we host a community Poker game\, Wheel of Chance\, etc.&nbsp\;<br />\n<br />\nStay for complimentary refreshments and discover the warmth and vitality of our senior living community.&nbsp\;
LOCATION:Venvi The Wellington
UID:e.2532.1022
SEQUENCE:3
DTSTAMP:20260420T031656Z
URL:https://portal.assiniboiachamber.ca/events/details/love-casino-at-venvi-the-wellington-1022
END:VEVENT

END:VCALENDAR
