BEGIN:VCALENDAR
VERSION:2.0
PRODID:-//ChamberMaster//Event Calendar 2.0//EN
METHOD:PUBLISH
X-PUBLISHED-TTL:P3D
REFRESH-INTERVAL:P3D
CALSCALE:GREGORIAN
BEGIN:VEVENT
DTSTART:20251031T150000Z
DTEND:20251031T210000Z
X-MICROSOFT-CDO-ALLDAYEVENT:FALSE
SUMMARY:Judy Lindsay Realty Presents St. James Spooktacular Trick or Treat
DESCRIPTION:The 3rd Annual Trick or Treat Event and invite hosted by Judy Lindsay Team Realty.\n\nJoin us for some FREE\, festive neighborhood fun!Scoop the littles and bring them by for some safe & easy Trick or Treating along Portage Ave. and say hi to your local businesses along the way! There are 30 businesses participating within the strip along Portage Ave between Moorgate St. to Lyle St.\n\nPlease be sure to RSVP so we can ensure to have enough candy on hand and avoid any disappointed little ghosts and goblins\,We look forward to seeing you all there!!
X-ALT-DESC;FMTTYPE=text/html:<div class="xdj266r x14z9mp xat24cr x1lziwak x1vvkbs x126k92a" style="overflow-wrap: break-word\; white-space-collapse: preserve\; margin-inline: 0px\; margin-bottom: 0px\; margin-top: 0px\; font-family: &quot\;Segoe UI Historic&quot\;\, &quot\;Segoe UI&quot\;\, Helvetica\, Arial\, sans-serif\; color: rgb(8\, 8\, 9)\; font-size: 15px\;">\n<div dir="auto" style="font-family: inherit\;">The 3rd Annual Trick or Treat Event and invite hosted by Judy Lindsay Team Realty.<br />\nJoin us for some FREE\, festive neighborhood fun!Scoop the littles and bring them by for some safe &amp\; easy Trick or Treating along Portage Ave. and say hi to your local businesses along the way! There are 30 businesses participating within the strip along Portage Ave between Moorgate St. to Lyle St.<br />\nPlease be sure to RSVP so we can ensure to have enough candy on hand and avoid any disappointed little ghosts and goblins\,We look forward to seeing you all there!!</div>\n</div>\n
LOCATION:Portage Avenue between Moorgate St. and Lyle St.
UID:e.2532.978
SEQUENCE:3
DTSTAMP:20260420T090210Z
URL:https://portal.assiniboiachamber.ca/events/details/judy-lindsay-realty-presents-st-james-spooktacular-trick-or-treat-978
END:VEVENT

END:VCALENDAR
